BEGIN:VCALENDAR
VERSION:2.0
PRODID:-//The Opportunity Network - ECPv6.15.17.1//NONSGML v1.0//EN
CALSCALE:GREGORIAN
METHOD:PUBLISH
X-WR-CALNAME:The Opportunity Network
X-ORIGINAL-URL:https://opportunitynetwork.org
X-WR-CALDESC:Events for The Opportunity Network
REFRESH-INTERVAL;VALUE=DURATION:PT1H
X-Robots-Tag:noindex
X-PUBLISHED-TTL:PT1H
BEGIN:VTIMEZONE
TZID:America/New_York
BEGIN:DAYLIGHT
TZOFFSETFROM:-0500
TZOFFSETTO:-0400
TZNAME:EDT
DTSTART:20230312T070000
END:DAYLIGHT
BEGIN:STANDARD
TZOFFSETFROM:-0400
TZOFFSETTO:-0500
TZNAME:EST
DTSTART:20231105T060000
END:STANDARD
BEGIN:DAYLIGHT
TZOFFSETFROM:-0500
TZOFFSETTO:-0400
TZNAME:EDT
DTSTART:20240310T070000
END:DAYLIGHT
BEGIN:STANDARD
TZOFFSETFROM:-0400
TZOFFSETTO:-0500
TZNAME:EST
DTSTART:20241103T060000
END:STANDARD
BEGIN:DAYLIGHT
TZOFFSETFROM:-0500
TZOFFSETTO:-0400
TZNAME:EDT
DTSTART:20250309T070000
END:DAYLIGHT
BEGIN:STANDARD
TZOFFSETFROM:-0400
TZOFFSETTO:-0500
TZNAME:EST
DTSTART:20251102T060000
END:STANDARD
BEGIN:DAYLIGHT
TZOFFSETFROM:-0500
TZOFFSETTO:-0400
TZNAME:EDT
DTSTART:20260308T070000
END:DAYLIGHT
BEGIN:STANDARD
TZOFFSETFROM:-0400
TZOFFSETTO:-0500
TZNAME:EST
DTSTART:20261101T060000
END:STANDARD
BEGIN:DAYLIGHT
TZOFFSETFROM:-0500
TZOFFSETTO:-0400
TZNAME:EDT
DTSTART:20270314T070000
END:DAYLIGHT
BEGIN:STANDARD
TZOFFSETFROM:-0400
TZOFFSETTO:-0500
TZNAME:EST
DTSTART:20271107T060000
END:STANDARD
END:VTIMEZONE
BEGIN:VEVENT
DTSTART;TZID=America/New_York:20260311T173000
DTEND;TZID=America/New_York:20260311T190000
DTSTAMP:20260424T120537
CREATED:20251023T201811Z
LAST-MODIFIED:20260226T152653Z
UID:7154-1773250200-1773255600@opportunitynetwork.org
SUMMARY:Mock Interview Workshop
DESCRIPTION:Our 11th-grade students are matched with volunteers to practice simulated interviews. Volunteers provide real-time feedback and advice\, supporting students in preparing for future summer internships and building their communication and networking skills. \nRegister here: https://oppnet.tfaforms.net/5117871
URL:https://opportunitynetwork.org/volunteer-event/mock-interview-workshop-3/
LOCATION:The Opportunity Network\, 85 Broad Street\, 6th Floor\, New York\, NY\, 10004\, United States
ORGANIZER;CN="The Opportunity Network":MAILTO:volunteers@opportunitynetwork.org
END:VEVENT
BEGIN:VEVENT
DTSTART;TZID=America/New_York:20260310T173000
DTEND;TZID=America/New_York:20260310T190000
DTSTAMP:20260424T120537
CREATED:20251023T201737Z
LAST-MODIFIED:20260226T152740Z
UID:7152-1773163800-1773169200@opportunitynetwork.org
SUMMARY:Mock Interview Workshop
DESCRIPTION:Our 11th-grade students are matched with volunteers to practice simulated interviews. Volunteers provide real-time feedback and advice\, supporting students in preparing for future summer internships and building their communication and networking skills. \nRegister here: https://oppnet.tfaforms.net/5117871
URL:https://opportunitynetwork.org/volunteer-event/mock-interview-workshop-2/
LOCATION:The Opportunity Network\, 85 Broad Street\, 6th Floor\, New York\, NY\, 10004\, United States
ORGANIZER;CN="The Opportunity Network":MAILTO:volunteers@opportunitynetwork.org
END:VEVENT
BEGIN:VEVENT
DTSTART;TZID=America/New_York:20260309T173000
DTEND;TZID=America/New_York:20260309T190000
DTSTAMP:20260424T120537
CREATED:20251023T201629Z
LAST-MODIFIED:20260226T152805Z
UID:7150-1773077400-1773082800@opportunitynetwork.org
SUMMARY:Mock Interview Workshop
DESCRIPTION:Our 11th-grade students are matched with volunteers to practice simulated interviews. Volunteers provide real-time feedback and advice\, supporting students in preparing for future summer internships and building their communication and networking skills. \nRegister here: https://oppnet.tfaforms.net/5117871
URL:https://opportunitynetwork.org/volunteer-event/mock-interview-workshop/
LOCATION:The Opportunity Network\, 85 Broad Street\, 6th Floor\, New York\, NY\, 10004\, United States
ORGANIZER;CN="The Opportunity Network":MAILTO:volunteers@opportunitynetwork.org
END:VEVENT
BEGIN:VEVENT
DTSTART;TZID=America/New_York:20260211T173000
DTEND;TZID=America/New_York:20260211T190000
DTSTAMP:20260424T120537
CREATED:20251023T202041Z
LAST-MODIFIED:20260204T174353Z
UID:7158-1770831000-1770836400@opportunitynetwork.org
SUMMARY:Speed Networking/Mock Interviews
DESCRIPTION:Volunteers work one-on-one or in small groups with our 12th-grade Fellows to help them further develop and refine their networking and interview skills. For each round\, OppNet provides a networking prompt or sample interview question for students to practice with volunteers. \nRegister here: https://oppnet.tfaforms.net/5117861
URL:https://opportunitynetwork.org/volunteer-event/speed-networking-mock-interviews-2/
LOCATION:Bain & Company\, 1114 6th Avenue\, 43rd Floor\, New York\, NY\, 10036
ORGANIZER;CN="The Opportunity Network":MAILTO:volunteers@opportunitynetwork.org
END:VEVENT
BEGIN:VEVENT
DTSTART;TZID=America/New_York:20260210T173000
DTEND;TZID=America/New_York:20260210T190000
DTSTAMP:20260424T120537
CREATED:20251023T201959Z
LAST-MODIFIED:20260204T174327Z
UID:7156-1770744600-1770750000@opportunitynetwork.org
SUMMARY:Speed Networking/Mock Interviews
DESCRIPTION:Volunteers work one-on-one or in small groups with our 12th-grade Fellows to help them further develop and refine their networking and\ninterview skills. For each round\, OppNet provides a networking prompt or sample interview question for students to practice with volunteers. \nRegister here: https://oppnet.tfaforms.net/5117861
URL:https://opportunitynetwork.org/volunteer-event/speed-networking-mock-interviews/
LOCATION:Bain & Company\, 1114 6th Avenue\, 43rd Floor\, New York\, NY\, 10036
ORGANIZER;CN="The Opportunity Network":MAILTO:volunteers@opportunitynetwork.org
END:VEVENT
BEGIN:VEVENT
DTSTART;VALUE=DATE:20251215
DTEND;VALUE=DATE:20260131
DTSTAMP:20260424T120537
CREATED:20251023T201338Z
LAST-MODIFIED:20251023T201338Z
UID:7144-1765756800-1769817599@opportunitynetwork.org
SUMMARY:Asynchronous Resume Review
DESCRIPTION:Sign up to review student resumes at home on your own time in December and January. OppNet will send you student resumes as Google Docs where you can make suggestions and leave comments to help students refine the resumes they’ll use to apply for future internships and jobs. \nClick here to sign up and let us know how many resumes you’d like to review.
URL:https://opportunitynetwork.org/volunteer-event/asynchronous-resume-review/
LOCATION:NY
ORGANIZER;CN="The Opportunity Network":MAILTO:volunteers@opportunitynetwork.org
END:VEVENT
BEGIN:VEVENT
DTSTART;TZID=America/New_York:20251203T173000
DTEND;TZID=America/New_York:20251203T190000
DTSTAMP:20260424T120537
CREATED:20250808T193923Z
LAST-MODIFIED:20251023T153203Z
UID:7055-1764783000-1764788400@opportunitynetwork.org
SUMMARY:Speed Networking
DESCRIPTION:This dynamic and fun session provides 11th-grade Fellows with opportunities to apply the networking skills they have learned through OppNet. In short intervals with volunteers\, students practice their personal elevator pitches and networking skills — all before the buzzer signals the next move! \nRegister here: https://oppnet.tfaforms.net/5117849
URL:https://opportunitynetwork.org/volunteer-event/speed-networking-3/
LOCATION:Virtual via Zoom
ORGANIZER;CN="The Opportunity Network":MAILTO:volunteers@opportunitynetwork.org
END:VEVENT
BEGIN:VEVENT
DTSTART;TZID=America/New_York:20251202T173000
DTEND;TZID=America/New_York:20251202T190000
DTSTAMP:20260424T120537
CREATED:20250808T193847Z
LAST-MODIFIED:20251023T153133Z
UID:7053-1764696600-1764702000@opportunitynetwork.org
SUMMARY:Speed Networking
DESCRIPTION:This dynamic and fun session provides 11th-grade Fellows with opportunities to apply the networking skills they have learned through OppNet. In short intervals with volunteers\, students practice their personal elevator pitches and networking skills — all before the buzzer signals the next move! \nRegister here: https://oppnet.tfaforms.net/5117849
URL:https://opportunitynetwork.org/volunteer-event/speed-networking-2/
LOCATION:Virtual via Zoom
ORGANIZER;CN="The Opportunity Network":MAILTO:volunteers@opportunitynetwork.org
END:VEVENT
BEGIN:VEVENT
DTSTART;TZID=America/New_York:20251201T173000
DTEND;TZID=America/New_York:20251201T190000
DTSTAMP:20260424T120537
CREATED:20250808T193805Z
LAST-MODIFIED:20251023T153047Z
UID:7051-1764610200-1764615600@opportunitynetwork.org
SUMMARY:Speed Networking
DESCRIPTION:This dynamic and fun session provides 11th-grade Fellows with opportunities to apply the networking skills they have learned through OppNet. In short intervals with volunteers\, students practice their personal elevator pitches and networking skills — all before the buzzer signals the next move! \nRegister here: https://oppnet.tfaforms.net/5117849
URL:https://opportunitynetwork.org/volunteer-event/speed-networking/
LOCATION:Virtual via Zoom
ORGANIZER;CN="The Opportunity Network":MAILTO:volunteers@opportunitynetwork.org
END:VEVENT
BEGIN:VEVENT
DTSTART;TZID=America/New_York:20251119T173000
DTEND;TZID=America/New_York:20251119T183000
DTSTAMP:20260424T120537
CREATED:20250811T182153Z
LAST-MODIFIED:20251023T152918Z
UID:7066-1763573400-1763577000@opportunitynetwork.org
SUMMARY:Showcasing Your Strengths
DESCRIPTION:Volunteers guide students through a conversation about showcasing their strengths\, including the value and importance of having a strong elevator pitch and personal brand\, by sharing insights from their own personal and professional experiences with these concepts. \nRegister here: https://oppnet.tfaforms.net/5117836
URL:https://opportunitynetwork.org/volunteer-event/showcasing-your-strengths-3/
LOCATION:The Opportunity Network\, 85 Broad Street\, 6th Floor\, New York\, NY\, 10004\, United States
ORGANIZER;CN="The Opportunity Network":MAILTO:volunteers@opportunitynetwork.org
END:VEVENT
BEGIN:VEVENT
DTSTART;TZID=America/New_York:20251118T173000
DTEND;TZID=America/New_York:20251118T183000
DTSTAMP:20260424T120537
CREATED:20250811T182109Z
LAST-MODIFIED:20251023T152749Z
UID:7064-1763487000-1763490600@opportunitynetwork.org
SUMMARY:Showcasing Your Strengths
DESCRIPTION:Volunteers guide students through a conversation about showcasing their strengths\, including the value and importance of having a strong elevator pitch and personal brand\, by sharing insights from their own personal and professional experiences with these concepts. \nRegister here: https://oppnet.tfaforms.net/5117836
URL:https://opportunitynetwork.org/volunteer-event/showcasing-your-strengths-2/
LOCATION:The Opportunity Network\, 85 Broad Street\, 6th Floor\, New York\, NY\, 10004\, United States
ORGANIZER;CN="The Opportunity Network":MAILTO:volunteers@opportunitynetwork.org
END:VEVENT
BEGIN:VEVENT
DTSTART;TZID=America/New_York:20251117T173000
DTEND;TZID=America/New_York:20251117T183000
DTSTAMP:20260424T120537
CREATED:20250808T194337Z
LAST-MODIFIED:20251023T152610Z
UID:7058-1763400600-1763404200@opportunitynetwork.org
SUMMARY:Showcasing Your Strengths
DESCRIPTION:Volunteers guide students through a conversation about showcasing their strengths\, including the value and importance of having a strong elevator pitch and personal brand\, by sharing insights from their own personal and professional experiences with these concepts. \nRegister here: https://oppnet.tfaforms.net/5117836
URL:https://opportunitynetwork.org/volunteer-event/showcasing-your-strengths/
LOCATION:The Opportunity Network\, 85 Broad Street\, 6th Floor\, New York\, NY\, 10004\, United States
ORGANIZER;CN="The Opportunity Network":MAILTO:volunteers@opportunitynetwork.org
END:VEVENT
BEGIN:VEVENT
DTSTART;TZID=America/New_York:20251105T173000
DTEND;TZID=America/New_York:20251105T190000
DTSTAMP:20260424T120537
CREATED:20250808T193514Z
LAST-MODIFIED:20251023T152715Z
UID:7049-1762363800-1762369200@opportunitynetwork.org
SUMMARY:Resume Workshop
DESCRIPTION:Volunteers work with our 11th-grade Fellows in rotations to edit their resumes in real time\, offering feedback and advice to help them refine the resumes they will use when applying for summer internships and future jobs. \nRegister here: https://oppnet.tfaforms.net/5117835
URL:https://opportunitynetwork.org/volunteer-event/resume-workshop-2/
LOCATION:The Opportunity Network\, 85 Broad Street\, 6th Floor\, New York\, NY\, 10004\, United States
ORGANIZER;CN="The Opportunity Network":MAILTO:volunteers@opportunitynetwork.org
END:VEVENT
BEGIN:VEVENT
DTSTART;TZID=America/New_York:20251103T173000
DTEND;TZID=America/New_York:20251103T190000
DTSTAMP:20260424T120537
CREATED:20250808T193339Z
LAST-MODIFIED:20251023T152647Z
UID:7046-1762191000-1762196400@opportunitynetwork.org
SUMMARY:Resume Workshop
DESCRIPTION:Volunteers work with our 11th-grade Fellows in rotations to edit their resumes in real time\, offering feedback and advice to help them refine the resumes they will use when applying for summer internships and future jobs. \nRegister here: https://oppnet.tfaforms.net/5117835
URL:https://opportunitynetwork.org/volunteer-event/resume-workshop/
LOCATION:The Opportunity Network\, 85 Broad Street\, 6th Floor\, New York\, NY\, 10004\, United States
ORGANIZER;CN="The Opportunity Network":MAILTO:volunteers@opportunitynetwork.org
END:VEVENT
BEGIN:VEVENT
DTSTART;TZID=America/New_York:20250514T173000
DTEND;TZID=America/New_York:20250514T183000
DTSTAMP:20260424T120537
CREATED:20250423T190935Z
LAST-MODIFIED:20250424T182337Z
UID:6938-1747243800-1747247400@opportunitynetwork.org
SUMMARY:Summer Readiness Workshop
DESCRIPTION:Volunteers work with our 11th-grade Fellows to help prepare them for their upcoming summer internship and academic enrichment programs. In small groups with students\, volunteers will lead a group discussion on how to navigate hypothetical workplace scenarios (provided by OppNet)\, sharing their personal experiences and tips for summer internship success. Register here: https://oppnet.tfaforms.net/5117760
URL:https://opportunitynetwork.org/volunteer-event/summer-readiness-workshop-3/
LOCATION:The Opportunity Network\, 85 Broad Street\, 6th Floor\, New York\, NY\, 10004\, United States
ORGANIZER;CN="The Opportunity Network":MAILTO:volunteers@opportunitynetwork.org
END:VEVENT
BEGIN:VEVENT
DTSTART;TZID=America/New_York:20250513T173000
DTEND;TZID=America/New_York:20250513T183000
DTSTAMP:20260424T120537
CREATED:20250423T190849Z
LAST-MODIFIED:20250424T182245Z
UID:6936-1747157400-1747161000@opportunitynetwork.org
SUMMARY:Summer Readiness Workshop
DESCRIPTION:Volunteers work with our 11th-grade Fellows to help prepare them for their upcoming summer internship and academic enrichment programs. In small groups with students\, volunteers will lead a group discussion on how to navigate hypothetical workplace scenarios (provided by OppNet)\, sharing their personal experiences and tips for summer internship success. Register here: https://oppnet.tfaforms.net/5117760
URL:https://opportunitynetwork.org/volunteer-event/summer-readiness-workshop-2/
LOCATION:The Opportunity Network\, 85 Broad Street\, 6th Floor\, New York\, NY\, 10004\, United States
ORGANIZER;CN="The Opportunity Network":MAILTO:volunteers@opportunitynetwork.org
END:VEVENT
BEGIN:VEVENT
DTSTART;TZID=America/New_York:20250512T173000
DTEND;TZID=America/New_York:20250512T183000
DTSTAMP:20260424T120537
CREATED:20250423T190002Z
LAST-MODIFIED:20250424T182219Z
UID:6933-1747071000-1747074600@opportunitynetwork.org
SUMMARY:Summer Readiness Workshop
DESCRIPTION:Volunteers work with our 11th-grade Fellows to help prepare them for their upcoming summer internship and academic enrichment programs. In small groups with students\, volunteers will lead a group discussion on how to navigate hypothetical workplace scenarios (provided by OppNet)\, sharing their personal experiences and tips for summer internship success. Register here: https://oppnet.tfaforms.net/5117760
URL:https://opportunitynetwork.org/volunteer-event/summer-readiness-workshop/
LOCATION:The Opportunity Network\, 85 Broad Street\, 6th Floor\, New York\, NY\, 10004\, United States
ORGANIZER;CN="The Opportunity Network":MAILTO:volunteers@opportunitynetwork.org
END:VEVENT
BEGIN:VEVENT
DTSTART;TZID=America/New_York:20250320T173000
DTEND;TZID=America/New_York:20250320T190000
DTSTAMP:20260424T120537
CREATED:20250131T191758Z
LAST-MODIFIED:20250131T191758Z
UID:6785-1742491800-1742497200@opportunitynetwork.org
SUMMARY:12th Grade Speed Networking & Mock Interviews
DESCRIPTION:Volunteers work one-on-one or in small groups with our 12th-grade Fellows to help them further develop and refine their networking and interview skills. For each round\, OppNet provides a networking prompt or sample interview question for students to practice with volunteers. Register here: https://oppnet.tfaforms.net/5117758
URL:https://opportunitynetwork.org/volunteer-event/12th-grade-speed-networking-mock-interviews-2/
LOCATION:The Opportunity Network\, 85 Broad Street\, 6th Floor\, New York\, NY\, 10004\, United States
ORGANIZER;CN="The Opportunity Network":MAILTO:volunteers@opportunitynetwork.org
END:VEVENT
BEGIN:VEVENT
DTSTART;TZID=America/New_York:20250319T173000
DTEND;TZID=America/New_York:20250319T190000
DTSTAMP:20260424T120537
CREATED:20250131T191707Z
LAST-MODIFIED:20250131T202149Z
UID:6782-1742405400-1742410800@opportunitynetwork.org
SUMMARY:12th Grade Speed Networking & Mock Interviews
DESCRIPTION:Volunteers work one-on-one or in small groups with our 12th-grade Fellows to help them further develop and refine their networking and interview skills. For each round\, OppNet provides a networking prompt or sample interview question for students to practice with volunteers. Register here: https://oppnet.tfaforms.net/5117758
URL:https://opportunitynetwork.org/volunteer-event/12th-grade-speed-networking-mock-interviews/
LOCATION:The Opportunity Network\, 85 Broad Street\, 6th Floor\, New York\, NY\, 10004\, United States
CATEGORIES:Volunteer Event
ORGANIZER;CN="The Opportunity Network":MAILTO:volunteers@opportunitynetwork.org
END:VEVENT
BEGIN:VEVENT
DTSTART;TZID=America/New_York:20250312T173000
DTEND;TZID=America/New_York:20250312T190000
DTSTAMP:20260424T120537
CREATED:20250131T191228Z
LAST-MODIFIED:20250131T191228Z
UID:6779-1741800600-1741806000@opportunitynetwork.org
SUMMARY:11th Grade Mock Interviews
DESCRIPTION:Our 11th-grade students are matched with volunteers to practice simulated interviews. Volunteers provide real-time feedback and advice\, supporting students in preparing for future summer internships and building their communication and networking skills. Register here: https://oppnet.tfaforms.net/5117757
URL:https://opportunitynetwork.org/volunteer-event/11th-grade-mock-interviews-3/
LOCATION:Blue Owl Capital\, 375 Park Avenue\, 5th Floor\, New York\, NY\, 10152\, United States
ORGANIZER;CN="The Opportunity Network":MAILTO:volunteers@opportunitynetwork.org
END:VEVENT
BEGIN:VEVENT
DTSTART;TZID=America/New_York:20250311T173000
DTEND;TZID=America/New_York:20250311T190000
DTSTAMP:20260424T120537
CREATED:20250131T191117Z
LAST-MODIFIED:20250131T191117Z
UID:6778-1741714200-1741719600@opportunitynetwork.org
SUMMARY:11th Grade Mock Interviews
DESCRIPTION:Our 11th-grade students are matched with volunteers to practice simulated interviews. Volunteers provide real-time feedback and advice\, supporting students in preparing for future summer internships and building their communication and networking skills. Register here: https://oppnet.tfaforms.net/5117757
URL:https://opportunitynetwork.org/volunteer-event/11th-grade-mock-interviews-2/
LOCATION:Blue Owl Capital\, 375 Park Avenue\, 5th Floor\, New York\, NY\, 10152\, United States
ORGANIZER;CN="The Opportunity Network":MAILTO:volunteers@opportunitynetwork.org
END:VEVENT
BEGIN:VEVENT
DTSTART;TZID=America/New_York:20250310T173000
DTEND;TZID=America/New_York:20250310T190000
DTSTAMP:20260424T120537
CREATED:20250131T190657Z
LAST-MODIFIED:20250131T190739Z
UID:6775-1741627800-1741633200@opportunitynetwork.org
SUMMARY:11th Grade Mock Interviews
DESCRIPTION:Our 11th-grade students are matched with volunteers to practice simulated interviews. Volunteers provide real-time feedback and advice\, supporting students in preparing for future summer internships and building their communication and networking skills. Register here: https://oppnet.tfaforms.net/5117757
URL:https://opportunitynetwork.org/volunteer-event/11th-grade-mock-interviews/
LOCATION:Blue Owl Capital\, 375 Park Avenue\, 5th Floor\, New York\, NY\, 10152\, United States
ORGANIZER;CN="The Opportunity Network":MAILTO:volunteers@opportunitynetwork.org
END:VEVENT
BEGIN:VEVENT
DTSTART;TZID=America/New_York:20250206T173000
DTEND;TZID=America/New_York:20250206T190000
DTSTAMP:20260424T120537
CREATED:20250131T185858Z
LAST-MODIFIED:20250131T185858Z
UID:6773-1738863000-1738868400@opportunitynetwork.org
SUMMARY:12th Grade Resume Workshops
DESCRIPTION:During this workshop\, volunteers will help guide our students through a review of their resumes 1:1 or in small groups. In a 1:1 setting\, volunteers will likely focus on improvements to the whole resume while small group discussions might take the form of collective feedback to all students regarding a particular section (e.g.\, Education\, Activities\, etc). Register here: https://oppnet.tfaforms.net/5117738
URL:https://opportunitynetwork.org/volunteer-event/12th-grade-resume-workshops-3/
LOCATION:Virtual via Zoom
CATEGORIES:Volunteer Event
ORGANIZER;CN="The Opportunity Network":MAILTO:volunteers@opportunitynetwork.org
END:VEVENT
BEGIN:VEVENT
DTSTART;TZID=America/New_York:20250205T173000
DTEND;TZID=America/New_York:20250205T190000
DTSTAMP:20260424T120537
CREATED:20250131T185703Z
LAST-MODIFIED:20250131T185703Z
UID:6771-1738776600-1738782000@opportunitynetwork.org
SUMMARY:12th Grade Resume Workshops
DESCRIPTION:During this workshop\, volunteers will help guide our students through a review of their resumes 1:1 or in small groups. In a 1:1 setting\, volunteers will likely focus on improvements to the whole resume while small group discussions might take the form of collective feedback to all students regarding a particular section (e.g.\, Education\, Activities\, etc). Register here: https://oppnet.tfaforms.net/5117738
URL:https://opportunitynetwork.org/volunteer-event/12th-grade-resume-workshops-2/
LOCATION:Virtual via Zoom
CATEGORIES:Volunteer Event
ORGANIZER;CN="The Opportunity Network":MAILTO:volunteers@opportunitynetwork.org
END:VEVENT
BEGIN:VEVENT
DTSTART;TZID=America/New_York:20250204T173000
DTEND;TZID=America/New_York:20250204T190000
DTSTAMP:20260424T120537
CREATED:20250131T185536Z
LAST-MODIFIED:20250131T185536Z
UID:6767-1738690200-1738695600@opportunitynetwork.org
SUMMARY:12th Grade Resume Workshops
DESCRIPTION:During this workshop\, volunteers will help guide our students through a review of their resumes 1:1 or in small groups. In a 1:1 setting\, volunteers will likely focus on improvements to the whole resume while small group discussions might take the form of collective feedback to all students regarding a particular section (e.g.\, Education\, Activities\, etc). Register here: https://oppnet.tfaforms.net/5117738
URL:https://opportunitynetwork.org/volunteer-event/12th-grade-resume-workshops/
LOCATION:Virtual via Zoom
CATEGORIES:Volunteer Event
ORGANIZER;CN="The Opportunity Network":MAILTO:volunteers@opportunitynetwork.org
END:VEVENT
BEGIN:VEVENT
DTSTART;TZID=America/New_York:20241113T173000
DTEND;TZID=America/New_York:20241113T190000
DTSTAMP:20260424T120537
CREATED:20250131T202800Z
LAST-MODIFIED:20250131T202800Z
UID:6792-1731519000-1731524400@opportunitynetwork.org
SUMMARY:11th Grade Resume Workshops
DESCRIPTION:
URL:https://opportunitynetwork.org/volunteer-event/11th-grade-resume-workshops-2/
LOCATION:The Opportunity Network\, 85 Broad Street\, 6th Floor\, New York\, NY\, 10004\, United States
CATEGORIES:Volunteer Event
ORGANIZER;CN="The Opportunity Network":MAILTO:volunteers@opportunitynetwork.org
END:VEVENT
BEGIN:VEVENT
DTSTART;TZID=America/New_York:20241112T173000
DTEND;TZID=America/New_York:20241112T190000
DTSTAMP:20260424T120537
CREATED:20250131T202759Z
LAST-MODIFIED:20250131T202759Z
UID:6791-1731432600-1731438000@opportunitynetwork.org
SUMMARY:11th Grade Resume Workshops
DESCRIPTION:
URL:https://opportunitynetwork.org/volunteer-event/11th-grade-resume-workshops/
LOCATION:The Opportunity Network\, 85 Broad Street\, 6th Floor\, New York\, NY\, 10004\, United States
CATEGORIES:Volunteer Event
ORGANIZER;CN="The Opportunity Network":MAILTO:volunteers@opportunitynetwork.org
END:VEVENT
END:VCALENDAR